BEGIN:VCALENDAR
VERSION:2.0
PRODID:-//Altersgenossenverein 1984 - ECPv4.1.2//NONSGML v1.0//EN
CALSCALE:GREGORIAN
METHOD:PUBLISH
X-WR-CALNAME:Altersgenossenverein 1984
X-ORIGINAL-URL:https://www.agv1984.de
X-WR-CALDESC:Events for Altersgenossenverein 1984
BEGIN:VEVENT
DTSTART;TZID=UTC+0:20251017T170000
DTEND;TZID=UTC+0:20251017T220000
DTSTAMP:20260422T110826
CREATED:20240916T163813
LAST-MODIFIED:20250417T201433
UID:1368-1760720400-1760738400@www.agv1984.de
SUMMARY:17.10.25 Besenausfahrt
DESCRIPTION:Zusammen mit AGV85 - Organisiert Alex Kübler - danke!
URL:https://www.agv1984.de/?tribe_events=17-10-25-besenausfahrt
END:VEVENT
END:VCALENDAR